BEGIN:VCALENDAR
VERSION:2.0
CALSCALE:GREGORIAN
PRODID:adamgibbons/ics
METHOD:PUBLISH
X-PUBLISHED-TTL:PT1H
BEGIN:VEVENT
UID:2230@calendar.clonmel.town
SUMMARY:Changing Natures
DTSTAMP:20260420T044210Z
DTSTART:20260410T213000Z
DTEND:20260516T163000Z
URL:https://calendar.clonmel.town/event/changing-natures-exhibition-at-linn
	-gallery
GEO:52.353073;-7.7010822
LOCATION:Linn Gallery - 1st Floor\, The Narrow Space\, 14 Mitchell Street\,
	 Clonmel.
STATUS:CONFIRMED
CATEGORIES:Exhibition,Visual arts
END:VEVENT
BEGIN:VEVENT
UID:2337@calendar.clonmel.town
SUMMARY:Karyna Vechorkina
DTSTAMP:20260420T044210Z
DTSTART:20260413T080000Z
DTEND:20260425T225900Z
URL:https://calendar.clonmel.town/event/karyna-vechorkina
GEO:52.3550583;-7.6993383
LOCATION:Clonmel Library - Emmet Street
STATUS:CONFIRMED
CATEGORIES:Visual arts,Exhibition
END:VEVENT
BEGIN:VEVENT
UID:2266@calendar.clonmel.town
SUMMARY:STAC at 30
DTSTAMP:20260420T044210Z
DTSTART:20260418T090000Z
DTEND:20260620T160000Z
URL:https://calendar.clonmel.town/event/stac-at-30
GEO:52.3530671;-7.6987137
LOCATION:STAC - Nelson Street
STATUS:CONFIRMED
CATEGORIES:Exhibition,Visual arts
END:VEVENT
BEGIN:VEVENT
UID:1847@calendar.clonmel.town
SUMMARY:Clonmel Camera Club
DTSTAMP:20260420T044210Z
DTSTART:20260420T180000Z
URL:https://calendar.clonmel.town/event/clonmel-camera-club-8
GEO:52.3536113;-7.6979753
LOCATION:The Coachman - 13-14 Parnell Street
STATUS:CONFIRMED
CATEGORIES:Visual arts
END:VEVENT
BEGIN:VEVENT
UID:2331@calendar.clonmel.town
SUMMARY:Canvas & Cocktails
DTSTAMP:20260420T044210Z
DTSTART:20260424T190000Z
URL:https://calendar.clonmel.town/event/canvas-and-cocktails-4
GEO:52.354899;-7.7082233
LOCATION:37 Queen St - 37 Queen Street
STATUS:CONFIRMED
CATEGORIES:Visual arts,Fee paid
END:VEVENT
BEGIN:VEVENT
UID:2336@calendar.clonmel.town
SUMMARY:Bealtaine: Fire & Renewal
DTSTAMP:20260420T044210Z
DTSTART:20260502T090000Z
DTEND:20260502T110000Z
URL:https://calendar.clonmel.town/event/bealtaine-fire-and-renewal
GEO:52.3554448;-7.698681
LOCATION:Tipperary Museum of Hidden History - Mick Delahunty Square
STATUS:CONFIRMED
CATEGORIES:Fee paid,Visual arts,Workshop
END:VEVENT
BEGIN:VEVENT
UID:1848@calendar.clonmel.town
SUMMARY:Clonmel Camera Club
DTSTAMP:20260420T044210Z
DTSTART:20260505T180000Z
URL:https://calendar.clonmel.town/event/clonmel-camera-club-9
GEO:52.3536113;-7.6979753
LOCATION:The Coachman - 13-14 Parnell Street
STATUS:CONFIRMED
CATEGORIES:Visual arts
END:VEVENT
BEGIN:VEVENT
UID:2387@calendar.clonmel.town
SUMMARY:Honey Ink Valley Tattoo Expo 2026
DTSTAMP:20260420T044210Z
DTSTART:20260606T100000Z
DTEND:20260607T180000Z
URL:https://calendar.clonmel.town/event/honey-ink-valley-tattoo-expo-2026
GEO:52.3496303;-7.6968374
LOCATION:Hillview Sports Club - Raheen Road
STATUS:CONFIRMED
CATEGORIES:Fee paid,Live Music,Visual arts
END:VEVENT
BEGIN:VEVENT
UID:2361@calendar.clonmel.town
SUMMARY:Clonmel Junction Arts Festival
DTSTAMP:20260420T044210Z
DTSTART:20260703T090000Z
DTEND:20260712T225900Z
URL:https://calendar.clonmel.town/event/clonmel-junction-arts-festival
LOCATION:Locations around Clonmel - Clonmel
STATUS:CONFIRMED
CATEGORIES:Upcoming,Favourite,Visual arts,Junction Festival,Live Music
END:VEVENT
END:VCALENDAR
